Package: spatialFDA Version: 1.3.1 Command: /home/biocbuild/bbs-3.23-bioc/R/bin/R CMD INSTALL spatialFDA StartedAt: 2025-11-19 15:31:22 -0500 (Wed, 19 Nov 2025) EndedAt: 2025-11-19 15:31:56 -0500 (Wed, 19 Nov 2025) EllapsedTime: 33.6 seconds RetCode: 0 Status: OK