Package: spatialHeatmap Version: 2.17.0 Command: /Library/Frameworks/R.framework/Resources/bin/R CMD build --keep-empty-dirs --no-resave-data spatialHeatmap StartedAt: 2025-11-19 17:46:26 -0500 (Wed, 19 Nov 2025) EndedAt: 2025-11-19 17:48:25 -0500 (Wed, 19 Nov 2025) EllapsedTime: 118.3 seconds RetCode: 1 Status: ERROR PackageFile: None PackageFileSize: NA