Package: spatialHeatmap Version: 2.17.0 Command: /Library/Frameworks/R.framework/Resources/bin/R CMD INSTALL spatialHeatmap StartedAt: 2025-11-19 15:19:56 -0500 (Wed, 19 Nov 2025) EndedAt: 2025-11-19 15:20:13 -0500 (Wed, 19 Nov 2025) EllapsedTime: 16.2 seconds RetCode: 0 Status: OK