Package: spatialHeatmap Version: 2.17.0 Command: /Library/Frameworks/R.framework/Resources/bin/R CMD build --keep-empty-dirs --no-resave-data spatialHeatmap StartedAt: 2025-11-19 18:50:32 -0500 (Wed, 19 Nov 2025) EndedAt: 2025-11-19 18:55:16 -0500 (Wed, 19 Nov 2025) EllapsedTime: 283.4 seconds RetCode: 1 Status: ERROR PackageFile: None PackageFileSize: NA