Package: spatialHeatmap Version: 2.17.0 Command: /Library/Frameworks/R.framework/Resources/bin/R CMD INSTALL spatialHeatmap StartedAt: 2025-11-19 15:36:14 -0500 (Wed, 19 Nov 2025) EndedAt: 2025-11-19 15:37:11 -0500 (Wed, 19 Nov 2025) EllapsedTime: 57.4 seconds RetCode: 0 Status: OK