Package: spatialHeatmap Version: 2.17.0 Command: /home/biocbuild/bbs-3.23-bioc/R/bin/R CMD INSTALL spatialHeatmap StartedAt: 2025-11-19 15:37:50 -0500 (Wed, 19 Nov 2025) EndedAt: 2025-11-19 15:38:31 -0500 (Wed, 19 Nov 2025) EllapsedTime: 41.8 seconds RetCode: 0 Status: OK