Package: spatialSimGP Version: 1.5.0 Command: /Library/Frameworks/R.framework/Resources/bin/R CMD build --keep-empty-dirs --no-resave-data spatialSimGP StartedAt: 2025-11-19 17:46:28 -0500 (Wed, 19 Nov 2025) EndedAt: 2025-11-19 17:46:55 -0500 (Wed, 19 Nov 2025) EllapsedTime: 26.3 seconds RetCode: 0 Status: OK PackageFile: spatialSimGP_1.5.0.tar.gz PackageFileSize: 736.1 KiB