Package: spatialSimGP Version: 1.5.0 Command: /Library/Frameworks/R.framework/Resources/bin/R CMD INSTALL spatialSimGP StartedAt: 2025-11-19 15:20:13 -0500 (Wed, 19 Nov 2025) EndedAt: 2025-11-19 15:20:22 -0500 (Wed, 19 Nov 2025) EllapsedTime: 9.2 seconds RetCode: 0 Status: OK