Package: spatialSimGP Version: 1.5.0 Command: /Library/Frameworks/R.framework/Resources/bin/R CMD build --keep-empty-dirs --no-resave-data spatialSimGP StartedAt: 2025-11-19 18:50:40 -0500 (Wed, 19 Nov 2025) EndedAt: 2025-11-19 18:51:49 -0500 (Wed, 19 Nov 2025) EllapsedTime: 68.6 seconds RetCode: 0 Status: OK PackageFile: spatialSimGP_1.5.0.tar.gz PackageFileSize: 730.8 KiB