Package: spatialSimGP Version: 1.5.0 Command: /Library/Frameworks/R.framework/Resources/bin/R CMD INSTALL spatialSimGP StartedAt: 2025-11-19 15:37:44 -0500 (Wed, 19 Nov 2025) EndedAt: 2025-11-19 15:38:15 -0500 (Wed, 19 Nov 2025) EllapsedTime: 31.4 seconds RetCode: 0 Status: OK