Package: spatialSimGP Version: 1.5.0 Command: /home/biocbuild/bbs-3.23-bioc/R/bin/R CMD build --keep-empty-dirs --no-resave-data spatialSimGP StartedAt: 2025-11-19 20:16:12 -0500 (Wed, 19 Nov 2025) EndedAt: 2025-11-19 20:17:16 -0500 (Wed, 19 Nov 2025) EllapsedTime: 64.1 seconds RetCode: 0 Status: OK PackageFile: spatialSimGP_1.5.0.tar.gz PackageFileSize: 695.9 KiB