Package: spatialSimGP Version: 1.5.0 Command: /home/biocbuild/bbs-3.23-bioc/R/bin/R CMD INSTALL spatialSimGP StartedAt: 2025-11-19 15:38:18 -0500 (Wed, 19 Nov 2025) EndedAt: 2025-11-19 15:38:41 -0500 (Wed, 19 Nov 2025) EllapsedTime: 22.8 seconds RetCode: 0 Status: OK