Package: spkTools Version: 1.67.0 Command: /Library/Frameworks/R.framework/Resources/bin/R CMD INSTALL spkTools StartedAt: 2025-11-18 15:18:28 -0500 (Tue, 18 Nov 2025) EndedAt: 2025-11-18 15:18:29 -0500 (Tue, 18 Nov 2025) EllapsedTime: 1.7 seconds RetCode: 0 Status: OK