Package: spkTools Version: 1.67.0 Command: rm -rf spkTools.buildbin-libdir && mkdir spkTools.buildbin-libdir && /Users/biocbuild/BBS/utils/build-universal.sh spkTools_1.67.0.tar.gz /Library/Frameworks/R.framework/Resources/bin/R spkTools.buildbin-libdir StartedAt: 2025-11-20 01:58:58 -0500 (Thu, 20 Nov 2025) EndedAt: 2025-11-20 01:59:08 -0500 (Thu, 20 Nov 2025) EllapsedTime: 10.5 seconds RetCode: 0 Status: OK PackageFile: spkTools_1.67.0.tgz PackageFileSize: 839.1 KiB