Package: spkTools Version: 1.67.0 Command: /Library/Frameworks/R.framework/Resources/bin/R CMD build --keep-empty-dirs --no-resave-data spkTools StartedAt: 2025-11-18 18:49:18 -0500 (Tue, 18 Nov 2025) EndedAt: 2025-11-18 18:49:36 -0500 (Tue, 18 Nov 2025) EllapsedTime: 18.2 seconds RetCode: 0 Status: OK PackageFile: spkTools_1.67.0.tar.gz PackageFileSize: 663.8 KiB