Package: spkTools Version: 1.67.0 Command: /home/biocbuild/bbs-3.23-bioc/R/bin/R CMD INSTALL spkTools StartedAt: 2025-11-18 16:06:38 -0500 (Tue, 18 Nov 2025) EndedAt: 2025-11-18 16:06:43 -0500 (Tue, 18 Nov 2025) EllapsedTime: 4.9 seconds RetCode: 0 Status: OK