Package: struct Version: 1.23.0 Command: rm -rf struct.buildbin-libdir && mkdir struct.buildbin-libdir && /Users/biocbuild/BBS/utils/build-universal.sh struct_1.23.0.tar.gz /Library/Frameworks/R.framework/Resources/bin/R struct.buildbin-libdir StartedAt: 2025-11-24 02:02:36 -0500 (Mon, 24 Nov 2025) EndedAt: 2025-11-24 02:03:16 -0500 (Mon, 24 Nov 2025) EllapsedTime: 39.3 seconds RetCode: 0 Status: OK PackageFile: struct_1.23.0.tgz PackageFileSize: 1.584 MiB