Package: struct Version: 1.23.0 Command: /Library/Frameworks/R.framework/Resources/bin/R CMD build --keep-empty-dirs --no-resave-data struct StartedAt: 2025-11-24 18:55:03 -0500 (Mon, 24 Nov 2025) EndedAt: 2025-11-24 18:55:51 -0500 (Mon, 24 Nov 2025) EllapsedTime: 47.9 seconds RetCode: 0 Status: OK PackageFile: struct_1.23.0.tar.gz PackageFileSize: 604.4 KiB