Package: struct Version: 1.23.0 Command: /Library/Frameworks/R.framework/Resources/bin/R CMD INSTALL struct StartedAt: 2025-11-23 15:38:56 -0500 (Sun, 23 Nov 2025) EndedAt: 2025-11-23 15:39:31 -0500 (Sun, 23 Nov 2025) EllapsedTime: 35.8 seconds RetCode: 0 Status: OK