Package: structToolbox Version: 1.23.0 Command: rm -rf structToolbox.buildbin-libdir && mkdir structToolbox.buildbin-libdir && /Users/biocbuild/BBS/utils/build-universal.sh structToolbox_1.23.0.tar.gz /Library/Frameworks/R.framework/Resources/bin/R structToolbox.buildbin-libdir StartedAt: 2025-11-19 23:55:19 -0500 (Wed, 19 Nov 2025) EndedAt: 2025-11-19 23:55:38 -0500 (Wed, 19 Nov 2025) EllapsedTime: 18.5 seconds RetCode: 0 Status: OK PackageFile: structToolbox_1.23.0.tgz PackageFileSize: 5.632 MiB