Package: structToolbox Version: 1.23.0 Command: rm -rf structToolbox.buildbin-libdir && mkdir structToolbox.buildbin-libdir && /Users/biocbuild/BBS/utils/build-universal.sh structToolbox_1.23.0.tar.gz /Library/Frameworks/R.framework/Resources/bin/R structToolbox.buildbin-libdir StartedAt: 2025-11-20 01:59:44 -0500 (Thu, 20 Nov 2025) EndedAt: 2025-11-20 02:00:40 -0500 (Thu, 20 Nov 2025) EllapsedTime: 55.3 seconds RetCode: 0 Status: OK PackageFile: structToolbox_1.23.0.tgz PackageFileSize: 5.625 MiB