Package: structToolbox Version: 1.23.0 Command: /Library/Frameworks/R.framework/Resources/bin/R CMD build --keep-empty-dirs --no-resave-data structToolbox StartedAt: 2025-11-19 18:56:38 -0500 (Wed, 19 Nov 2025) EndedAt: 2025-11-19 19:08:31 -0500 (Wed, 19 Nov 2025) EllapsedTime: 712.7 seconds RetCode: 0 Status: OK PackageFile: structToolbox_1.23.0.tar.gz PackageFileSize: 4.933 MiB