Package: swfdr Version: 1.37.0 Command: /Library/Frameworks/R.framework/Resources/bin/R CMD build --keep-empty-dirs --no-resave-data swfdr StartedAt: 2025-11-18 18:02:48 -0500 (Tue, 18 Nov 2025) EndedAt: 2025-11-18 18:03:10 -0500 (Tue, 18 Nov 2025) EllapsedTime: 22.2 seconds RetCode: 1 Status: ERROR PackageFile: None PackageFileSize: NA