Package: swfdr Version: 1.37.0 Command: /Library/Frameworks/R.framework/Resources/bin/R CMD INSTALL swfdr StartedAt: 2025-11-18 15:13:07 -0500 (Tue, 18 Nov 2025) EndedAt: 2025-11-18 15:13:18 -0500 (Tue, 18 Nov 2025) EllapsedTime: 10.7 seconds RetCode: 0 Status: OK