Package: swfdr Version: 1.37.0 Command: rm -rf swfdr.buildbin-libdir && mkdir swfdr.buildbin-libdir && /Users/biocbuild/BBS/utils/build-universal.sh swfdr_1.37.0.tar.gz /Library/Frameworks/R.framework/Resources/bin/R swfdr.buildbin-libdir StartedAt: 2025-11-20 02:00:04 -0500 (Thu, 20 Nov 2025) EndedAt: 2025-11-20 02:00:11 -0500 (Thu, 20 Nov 2025) EllapsedTime: 6.9 seconds RetCode: 0 Status: OK PackageFile: swfdr_1.37.0.tgz PackageFileSize: 1.432 MiB