Package: swfdr Version: 1.37.0 Command: /Library/Frameworks/R.framework/Resources/bin/R CMD build --keep-empty-dirs --no-resave-data swfdr StartedAt: 2025-11-19 18:58:18 -0500 (Wed, 19 Nov 2025) EndedAt: 2025-11-19 18:59:23 -0500 (Wed, 19 Nov 2025) EllapsedTime: 64.0 seconds RetCode: 0 Status: OK PackageFile: swfdr_1.37.0.tar.gz PackageFileSize: 1.203 MiB