Package: swfdr Version: 1.37.0 Command: /home/biocbuild/bbs-3.23-bioc/R/bin/R CMD INSTALL swfdr StartedAt: 2025-11-18 15:56:41 -0500 (Tue, 18 Nov 2025) EndedAt: 2025-11-18 15:57:05 -0500 (Tue, 18 Nov 2025) EllapsedTime: 24.3 seconds RetCode: 0 Status: OK