Package: switchBox Version: 1.47.0 Command: /Library/Frameworks/R.framework/Resources/bin/R CMD build --keep-empty-dirs --no-resave-data switchBox StartedAt: 2025-11-19 17:52:55 -0500 (Wed, 19 Nov 2025) EndedAt: 2025-11-19 17:53:02 -0500 (Wed, 19 Nov 2025) EllapsedTime: 7.1 seconds RetCode: 0 Status: OK PackageFile: switchBox_1.47.0.tar.gz PackageFileSize: 471.1 KiB