Package: switchBox Version: 1.47.0 Command: rm -rf switchBox.buildbin-libdir && mkdir switchBox.buildbin-libdir && /Users/biocbuild/BBS/utils/build-universal.sh switchBox_1.47.0.tar.gz /Library/Frameworks/R.framework/Resources/bin/R switchBox.buildbin-libdir StartedAt: 2025-11-20 02:00:04 -0500 (Thu, 20 Nov 2025) EndedAt: 2025-11-20 02:00:15 -0500 (Thu, 20 Nov 2025) EllapsedTime: 11.5 seconds RetCode: 0 Status: OK PackageFile: switchBox_1.47.0.tgz PackageFileSize: 639.7 KiB