Package: switchBox Version: 1.47.0 Command: /Library/Frameworks/R.framework/Resources/bin/R CMD build --keep-empty-dirs --no-resave-data switchBox StartedAt: 2025-11-19 18:58:25 -0500 (Wed, 19 Nov 2025) EndedAt: 2025-11-19 18:58:42 -0500 (Wed, 19 Nov 2025) EllapsedTime: 17.1 seconds RetCode: 0 Status: OK PackageFile: switchBox_1.47.0.tar.gz PackageFileSize: 469.5 KiB