Package: switchBox Version: 1.47.0 Command: /Library/Frameworks/R.framework/Resources/bin/R CMD INSTALL switchBox StartedAt: 2025-11-19 15:12:46 -0500 (Wed, 19 Nov 2025) EndedAt: 2025-11-19 15:13:14 -0500 (Wed, 19 Nov 2025) EllapsedTime: 28.4 seconds RetCode: 0 Status: OK