Package: switchBox Version: 1.47.0 Command: /home/biocbuild/bbs-3.23-bioc/R/bin/R CMD build --keep-empty-dirs --no-resave-data switchBox StartedAt: 2025-11-19 20:27:05 -0500 (Wed, 19 Nov 2025) EndedAt: 2025-11-19 20:27:15 -0500 (Wed, 19 Nov 2025) EllapsedTime: 10.0 seconds RetCode: 0 Status: OK PackageFile: switchBox_1.47.0.tar.gz PackageFileSize: 471.6 KiB