Package: switchBox Version: 1.47.0 Command: /home/biocbuild/bbs-3.23-bioc/R/bin/R CMD INSTALL switchBox StartedAt: 2025-11-18 15:56:27 -0500 (Tue, 18 Nov 2025) EndedAt: 2025-11-18 15:56:40 -0500 (Tue, 18 Nov 2025) EllapsedTime: 12.5 seconds RetCode: 0 Status: OK