Package: systemPipeShiny Version: 1.21.0 Command: rm -rf systemPipeShiny.buildbin-libdir && mkdir systemPipeShiny.buildbin-libdir && /Users/biocbuild/BBS/utils/build-universal.sh systemPipeShiny_1.21.0.tar.gz /Library/Frameworks/R.framework/Resources/bin/R systemPipeShiny.buildbin-libdir StartedAt: 2025-11-20 23:55:02 -0500 (Thu, 20 Nov 2025) EndedAt: 2025-11-20 23:55:10 -0500 (Thu, 20 Nov 2025) EllapsedTime: 8.2 seconds RetCode: 0 Status: OK PackageFile: systemPipeShiny_1.21.0.tgz PackageFileSize: 3.581 MiB