Package: systemPipeShiny Version: 1.21.0 Command: /Library/Frameworks/R.framework/Resources/bin/R CMD build --keep-empty-dirs --no-resave-data systemPipeShiny StartedAt: 2025-11-20 17:54:31 -0500 (Thu, 20 Nov 2025) EndedAt: 2025-11-20 17:54:44 -0500 (Thu, 20 Nov 2025) EllapsedTime: 13.1 seconds RetCode: 0 Status: OK PackageFile: systemPipeShiny_1.21.0.tar.gz PackageFileSize: 4.308 MiB