Package: systemPipeShiny Version: 1.21.0 Command: /Library/Frameworks/R.framework/Resources/bin/R CMD INSTALL systemPipeShiny StartedAt: 2025-11-20 15:05:22 -0500 (Thu, 20 Nov 2025) EndedAt: 2025-11-20 15:05:29 -0500 (Thu, 20 Nov 2025) EllapsedTime: 6.3 seconds RetCode: 0 Status: OK