Package: systemPipeTools Version: 1.19.0 Command: rm -rf systemPipeTools.buildbin-libdir && mkdir systemPipeTools.buildbin-libdir && /Users/biocbuild/BBS/utils/build-universal.sh systemPipeTools_1.19.0.tar.gz /Library/Frameworks/R.framework/Resources/bin/R systemPipeTools.buildbin-libdir StartedAt: 2025-11-19 23:55:44 -0500 (Wed, 19 Nov 2025) EndedAt: 2025-11-19 23:55:58 -0500 (Wed, 19 Nov 2025) EllapsedTime: 13.5 seconds RetCode: 0 Status: OK PackageFile: systemPipeTools_1.19.0.tgz PackageFileSize: 1.034 MiB