Package: systemPipeTools Version: 1.19.0 Command: /Library/Frameworks/R.framework/Resources/bin/R CMD build --keep-empty-dirs --no-resave-data systemPipeTools StartedAt: 2025-11-19 17:53:45 -0500 (Wed, 19 Nov 2025) EndedAt: 2025-11-19 17:54:18 -0500 (Wed, 19 Nov 2025) EllapsedTime: 32.4 seconds RetCode: 0 Status: OK PackageFile: systemPipeTools_1.19.0.tar.gz PackageFileSize: 1001 KiB