Package: systemPipeTools Version: 1.19.0 Command: /Library/Frameworks/R.framework/Resources/bin/R CMD INSTALL systemPipeTools StartedAt: 2025-11-19 15:14:53 -0500 (Wed, 19 Nov 2025) EndedAt: 2025-11-19 15:15:03 -0500 (Wed, 19 Nov 2025) EllapsedTime: 10.5 seconds RetCode: 0 Status: OK