Package: systemPipeTools Version: 1.19.0 Command: rm -rf systemPipeTools.buildbin-libdir && mkdir systemPipeTools.buildbin-libdir && /Users/biocbuild/BBS/utils/build-universal.sh systemPipeTools_1.19.0.tar.gz /Library/Frameworks/R.framework/Resources/bin/R systemPipeTools.buildbin-libdir StartedAt: 2025-11-20 02:00:18 -0500 (Thu, 20 Nov 2025) EndedAt: 2025-11-20 02:00:57 -0500 (Thu, 20 Nov 2025) EllapsedTime: 39.3 seconds RetCode: 0 Status: OK PackageFile: systemPipeTools_1.19.0.tgz PackageFileSize: 1.03 MiB