Package: systemPipeTools Version: 1.19.0 Command: /home/biocbuild/bbs-3.23-bioc/R/bin/R CMD INSTALL systemPipeTools StartedAt: 2025-11-19 15:25:12 -0500 (Wed, 19 Nov 2025) EndedAt: 2025-11-19 15:25:37 -0500 (Wed, 19 Nov 2025) EllapsedTime: 25.2 seconds RetCode: 0 Status: OK