Package: tidyCoverage Version: 1.7.0 Command: /Library/Frameworks/R.framework/Resources/bin/R CMD build --keep-empty-dirs --no-resave-data tidyCoverage StartedAt: 2025-11-19 17:56:09 -0500 (Wed, 19 Nov 2025) EndedAt: 2025-11-19 17:57:35 -0500 (Wed, 19 Nov 2025) EllapsedTime: 86.0 seconds RetCode: 0 Status: OK PackageFile: tidyCoverage_1.7.0.tar.gz PackageFileSize: 3.899 MiB