Package: tidyCoverage Version: 1.7.0 Command: /Library/Frameworks/R.framework/Resources/bin/R CMD INSTALL tidyCoverage StartedAt: 2025-11-19 15:17:54 -0500 (Wed, 19 Nov 2025) EndedAt: 2025-11-19 15:18:08 -0500 (Wed, 19 Nov 2025) EllapsedTime: 14.1 seconds RetCode: 0 Status: OK