Package: tidyCoverage Version: 1.7.0 Command: rm -rf tidyCoverage.buildbin-libdir && mkdir tidyCoverage.buildbin-libdir && /Users/biocbuild/BBS/utils/build-universal.sh tidyCoverage_1.7.0.tar.gz /Library/Frameworks/R.framework/Resources/bin/R tidyCoverage.buildbin-libdir StartedAt: 2025-11-20 02:00:49 -0500 (Thu, 20 Nov 2025) EndedAt: 2025-11-20 02:01:41 -0500 (Thu, 20 Nov 2025) EllapsedTime: 51.9 seconds RetCode: 0 Status: OK PackageFile: tidyCoverage_1.7.0.tgz PackageFileSize: 4.217 MiB