Package: tidyCoverage Version: 1.7.0 Command: /Library/Frameworks/R.framework/Resources/bin/R CMD build --keep-empty-dirs --no-resave-data tidyCoverage StartedAt: 2025-11-19 19:00:55 -0500 (Wed, 19 Nov 2025) EndedAt: 2025-11-19 19:04:31 -0500 (Wed, 19 Nov 2025) EllapsedTime: 216.3 seconds RetCode: 0 Status: OK PackageFile: tidyCoverage_1.7.0.tar.gz PackageFileSize: 3.898 MiB