Package: tidyFlowCore Version: 1.5.0 Command: /Library/Frameworks/R.framework/Resources/bin/R CMD build --keep-empty-dirs --no-resave-data tidyFlowCore StartedAt: 2025-11-19 17:56:10 -0500 (Wed, 19 Nov 2025) EndedAt: 2025-11-19 17:56:36 -0500 (Wed, 19 Nov 2025) EllapsedTime: 26.3 seconds RetCode: 0 Status: OK PackageFile: tidyFlowCore_1.5.0.tar.gz PackageFileSize: 780.3 KiB