Package: tidyFlowCore Version: 1.5.0 Command: rm -rf tidyFlowCore.buildbin-libdir && mkdir tidyFlowCore.buildbin-libdir && /Users/biocbuild/BBS/utils/build-universal.sh tidyFlowCore_1.5.0.tar.gz /Library/Frameworks/R.framework/Resources/bin/R tidyFlowCore.buildbin-libdir StartedAt: 2025-11-20 02:00:52 -0500 (Thu, 20 Nov 2025) EndedAt: 2025-11-20 02:01:10 -0500 (Thu, 20 Nov 2025) EllapsedTime: 17.3 seconds RetCode: 0 Status: OK PackageFile: tidyFlowCore_1.5.0.tgz PackageFileSize: 917.1 KiB