Package: tidyFlowCore Version: 1.5.0 Command: /Library/Frameworks/R.framework/Resources/bin/R CMD build --keep-empty-dirs --no-resave-data tidyFlowCore StartedAt: 2025-11-19 19:01:02 -0500 (Wed, 19 Nov 2025) EndedAt: 2025-11-19 19:02:07 -0500 (Wed, 19 Nov 2025) EllapsedTime: 65.1 seconds RetCode: 0 Status: OK PackageFile: tidyFlowCore_1.5.0.tar.gz PackageFileSize: 776.1 KiB