Package: tidyFlowCore Version: 1.5.0 Command: /Library/Frameworks/R.framework/Resources/bin/R CMD INSTALL tidyFlowCore StartedAt: 2025-11-19 15:21:51 -0500 (Wed, 19 Nov 2025) EndedAt: 2025-11-19 15:22:13 -0500 (Wed, 19 Nov 2025) EllapsedTime: 21.3 seconds RetCode: 0 Status: OK