Package: tidyFlowCore Version: 1.5.0 Command: /home/biocbuild/bbs-3.23-bioc/R/bin/R CMD build --keep-empty-dirs --no-resave-data tidyFlowCore StartedAt: 2025-11-19 20:32:10 -0500 (Wed, 19 Nov 2025) EndedAt: 2025-11-19 20:33:05 -0500 (Wed, 19 Nov 2025) EllapsedTime: 55.0 seconds RetCode: 0 Status: OK PackageFile: tidyFlowCore_1.5.0.tar.gz PackageFileSize: 783.8 KiB